Package: HiCBricks Version: 1.27.0 Command: /Library/Frameworks/R.framework/Resources/bin/R CMD INSTALL HiCBricks StartedAt: 2025-05-09 15:10:59 -0400 (Fri, 09 May 2025) EndedAt: 2025-05-09 15:11:05 -0400 (Fri, 09 May 2025) EllapsedTime: 6.4 seconds RetCode: 0 Status: OK