Package: Herper Version: 1.19.3 Command: rm -rf Herper.buildbin-libdir && mkdir Herper.buildbin-libdir && /Users/biocbuild/BBS/utils/build-universal.sh Herper_1.19.3.tar.gz /Library/Frameworks/R.framework/Resources/bin/R Herper.buildbin-libdir StartedAt: 2025-10-15 02:48:34 -0400 (Wed, 15 Oct 2025) EndedAt: 2025-10-15 02:48:47 -0400 (Wed, 15 Oct 2025) EllapsedTime: 12.7 seconds RetCode: 0 Status: OK PackageFile: Herper_1.19.3.tgz PackageFileSize: 463.8 KiB