Package: Herper Version: 1.19.0 Command: /Library/Frameworks/R.framework/Resources/bin/R CMD INSTALL Herper StartedAt: 2025-05-06 15:05:53 -0400 (Tue, 06 May 2025) EndedAt: 2025-05-06 15:06:01 -0400 (Tue, 06 May 2025) EllapsedTime: 7.6 seconds RetCode: 0 Status: OK