Package: Herper Version: 1.19.0 Command: /Library/Frameworks/R.framework/Resources/bin/R CMD check --install=check:Herper.install-out.txt --library=/Library/Frameworks/R.framework/Resources/library --no-vignettes --timings Herper_1.19.0.tar.gz StartedAt: 2025-05-07 19:59:07 -0400 (Wed, 07 May 2025) EndedAt: 2025-05-07 19:59:33 -0400 (Wed, 07 May 2025) EllapsedTime: 26.3 seconds RetCode: 1 Status: ERROR CheckDir: Herper.Rcheck Warnings: NA