Package: Herper Version: 1.19.0 Command: /Library/Frameworks/R.framework/Resources/bin/R CMD build --keep-empty-dirs --no-resave-data Herper StartedAt: 2025-05-07 16:38:14 -0400 (Wed, 07 May 2025) EndedAt: 2025-05-07 16:38:19 -0400 (Wed, 07 May 2025) EllapsedTime: 5.1 seconds RetCode: 0 Status: OK PackageFile: Herper_1.19.0.tar.gz PackageFileSize: 407.8 KiB