Package: HelloRanges Version: 1.35.2 Command: rm -rf HelloRanges.buildbin-libdir && mkdir HelloRanges.buildbin-libdir && F:\biocbuild\bbs-3.22-bioc\R\bin\R.exe CMD INSTALL --build --library=HelloRanges.buildbin-libdir HelloRanges_1.35.2.tar.gz StartedAt: 2025-08-15 10:27:31 -0400 (Fri, 15 Aug 2025) EndedAt: 2025-08-15 10:29:12 -0400 (Fri, 15 Aug 2025) EllapsedTime: 100.9 seconds RetCode: 0 Status: OK PackageFile: HelloRanges_1.35.2.zip PackageFileSize: 977.2 KiB