Package: Heatplus Version: 3.17.0 Command: chmod a+r Heatplus -R && F:\biocbuild\bbs-3.22-bioc\R\bin\R.exe CMD build --keep-empty-dirs --no-resave-data Heatplus StartedAt: 2025-08-14 20:45:19 -0400 (Thu, 14 Aug 2025) EndedAt: 2025-08-14 20:45:50 -0400 (Thu, 14 Aug 2025) EllapsedTime: 31.4 seconds RetCode: 0 Status: OK PackageFile: Heatplus_3.17.0.tar.gz PackageFileSize: 861.4 KiB