Package: Heatplus Version: 3.17.0 Command: /home/biocbuild/bbs-3.22-bioc/R/bin/R CMD build --keep-empty-dirs --no-resave-data --md5 Heatplus StartedAt: 2025-10-14 18:04:02 -0400 (Tue, 14 Oct 2025) EndedAt: 2025-10-14 18:04:17 -0400 (Tue, 14 Oct 2025) EllapsedTime: 15.0 seconds RetCode: 0 Status: OK PackageFile: Heatplus_3.17.0.tar.gz PackageFileSize: 1.183 MiB