Package: Harshlight Version: 1.81.0 Maintainer: Maurizio Pellegrino MaintainerEmail: mpellegri at berkeley.edu git_url: https://git.bioconductor.org/packages/Harshlight git_branch: devel git_last_commit: ecfb66a git_last_commit_date: 2025-04-15 09:38:43 -0400 (Tue, 15 Apr 2025)