Package: HVP Version: 0.99.5 Command: /home/biocbuild/bbs-3.22-bioc/R/bin/R CMD INSTALL HVP StartedAt: 2025-10-10 15:17:33 -0400 (Fri, 10 Oct 2025) EndedAt: 2025-10-10 15:17:39 -0400 (Fri, 10 Oct 2025) EllapsedTime: 5.4 seconds RetCode: 0 Status: OK