Package: HVP Version: 0.99.5 Command: /home/biocbuild/bbs-3.22-bioc/R/bin/R CMD build --keep-empty-dirs --no-resave-data --md5 HVP StartedAt: 2025-10-10 18:19:56 -0400 (Fri, 10 Oct 2025) EndedAt: 2025-10-10 18:20:47 -0400 (Fri, 10 Oct 2025) EllapsedTime: 51.1 seconds RetCode: 0 Status: OK PackageFile: HVP_0.99.5.tar.gz PackageFileSize: 1.168 MiB