Package: HVP Version: 1.1.0 Command: /Library/Frameworks/R.framework/Resources/bin/R CMD build --keep-empty-dirs --no-resave-data HVP StartedAt: 2025-11-23 16:41:04 -0500 (Sun, 23 Nov 2025) EndedAt: 2025-11-23 16:41:24 -0500 (Sun, 23 Nov 2025) EllapsedTime: 19.2 seconds RetCode: 0 Status: OK PackageFile: HVP_1.1.0.tar.gz PackageFileSize: 1.169 MiB