Package: HVP Version: 1.1.0 Command: rm -rf HVP.buildbin-libdir && mkdir HVP.buildbin-libdir && /Users/biocbuild/BBS/utils/build-universal.sh HVP_1.1.0.tar.gz /Library/Frameworks/R.framework/Resources/bin/R HVP.buildbin-libdir StartedAt: 2025-11-23 23:39:31 -0500 (Sun, 23 Nov 2025) EndedAt: 2025-11-23 23:39:35 -0500 (Sun, 23 Nov 2025) EllapsedTime: 4.2 seconds RetCode: 0 Status: OK PackageFile: HVP_1.1.0.tgz PackageFileSize: 796.8 KiB