Package: HTqPCR Version: 1.63.0 Command: /Library/Frameworks/R.framework/Resources/bin/R CMD INSTALL HTqPCR StartedAt: 2025-10-16 15:43:15 -0400 (Thu, 16 Oct 2025) EndedAt: 2025-10-16 15:43:29 -0400 (Thu, 16 Oct 2025) EllapsedTime: 14.0 seconds RetCode: 0 Status: OK