Package: HTqPCR Version: 1.63.0 Command: /Library/Frameworks/R.framework/Resources/bin/R CMD build --keep-empty-dirs --no-resave-data HTqPCR StartedAt: 2025-10-16 18:04:55 -0400 (Thu, 16 Oct 2025) EndedAt: 2025-10-16 18:05:22 -0400 (Thu, 16 Oct 2025) EllapsedTime: 26.5 seconds RetCode: 0 Status: OK PackageFile: HTqPCR_1.63.0.tar.gz PackageFileSize: 2.579 MiB