Package: HTqPCR Version: 1.63.0 Command: rm -rf HTqPCR.buildbin-libdir && mkdir HTqPCR.buildbin-libdir && /Users/biocbuild/BBS/utils/build-universal.sh HTqPCR_1.63.0.tar.gz /Library/Frameworks/R.framework/Resources/bin/R HTqPCR.buildbin-libdir StartedAt: 2025-10-17 03:55:18 -0400 (Fri, 17 Oct 2025) EndedAt: 2025-10-17 03:55:32 -0400 (Fri, 17 Oct 2025) EllapsedTime: 13.9 seconds RetCode: 0 Status: OK PackageFile: HTqPCR_1.63.0.tgz PackageFileSize: 2.459 MiB