Package: HTqPCR Version: 1.63.0 Command: /Library/Frameworks/R.framework/Resources/bin/R CMD INSTALL HTqPCR StartedAt: 2025-10-09 15:32:29 -0400 (Thu, 09 Oct 2025) EndedAt: 2025-10-09 15:32:32 -0400 (Thu, 09 Oct 2025) EllapsedTime: 3.1 seconds RetCode: 0 Status: OK