Package: HTqPCR Version: 1.63.0 Command: /Library/Frameworks/R.framework/Resources/bin/R CMD build --keep-empty-dirs --no-resave-data HTqPCR StartedAt: 2025-10-09 16:41:59 -0400 (Thu, 09 Oct 2025) EndedAt: 2025-10-09 16:42:07 -0400 (Thu, 09 Oct 2025) EllapsedTime: 8.1 seconds RetCode: 0 Status: OK PackageFile: HTqPCR_1.63.0.tar.gz PackageFileSize: 2.581 MiB