Package: HPiP Version: 1.15.0 Command: chmod a+r HPiP -R && F:\biocbuild\bbs-3.22-bioc\R\bin\R.exe CMD build --keep-empty-dirs --no-resave-data HPiP StartedAt: 2025-08-14 20:49:58 -0400 (Thu, 14 Aug 2025) EndedAt: 2025-08-14 20:59:13 -0400 (Thu, 14 Aug 2025) EllapsedTime: 555.1 seconds RetCode: 0 Status: OK PackageFile: HPiP_1.15.0.tar.gz PackageFileSize: 2.612 MiB