Package: HPiP Version: 1.13.0 Command: /Library/Frameworks/R.framework/Resources/bin/R CMD check --install=check:HPiP.install-out.txt --library=/Library/Frameworks/R.framework/Resources/library --no-vignettes --timings HPiP_1.13.0.tar.gz StartedAt: 2025-02-16 20:56:04 -0500 (Sun, 16 Feb 2025) EndedAt: 2025-02-16 21:02:10 -0500 (Sun, 16 Feb 2025) EllapsedTime: 365.9 seconds RetCode: 0 Status: OK CheckDir: HPiP.Rcheck Warnings: 0