Package: HPAanalyze Version: 1.27.2 Command: /home/biocbuild/bbs-3.22-bioc/R/bin/R CMD INSTALL HPAanalyze StartedAt: 2025-10-21 15:11:46 -0400 (Tue, 21 Oct 2025) EndedAt: 2025-10-21 15:12:03 -0400 (Tue, 21 Oct 2025) EllapsedTime: 17.2 seconds RetCode: 0 Status: OK