Package: HPAanalyze Version: 1.27.2 Command: /home/biocbuild/bbs-3.22-bioc/R/bin/R CMD build --keep-empty-dirs --no-resave-data --md5 HPAanalyze StartedAt: 2025-10-21 18:09:44 -0400 (Tue, 21 Oct 2025) EndedAt: 2025-10-21 18:10:39 -0400 (Tue, 21 Oct 2025) EllapsedTime: 55.1 seconds RetCode: 0 Status: OK PackageFile: HPAanalyze_1.27.2.tar.gz PackageFileSize: 2.632 MiB