Package: HMMcopy Version: 1.49.0 Command: E:\biocbuild\bbs-3.21-bioc\R\bin\R.exe CMD INSTALL HMMcopy StartedAt: 2025-02-12 15:21:23 -0500 (Wed, 12 Feb 2025) EndedAt: 2025-02-12 15:21:39 -0500 (Wed, 12 Feb 2025) EllapsedTime: 16.0 seconds RetCode: 0 Status: OK