Package: HMMcopy Version: 1.49.0 Command: E:\biocbuild\bbs-3.21-bioc\R\bin\R.exe CMD check --no-multiarch --install=check:HMMcopy.install-out.txt --library=E:\biocbuild\bbs-3.21-bioc\R\library --no-vignettes --timings HMMcopy_1.49.0.tar.gz StartedAt: 2025-02-13 02:09:51 -0500 (Thu, 13 Feb 2025) EndedAt: 2025-02-13 02:10:31 -0500 (Thu, 13 Feb 2025) EllapsedTime: 39.9 seconds RetCode: 0 Status: WARNINGS CheckDir: HMMcopy.Rcheck Warnings: 1