Package: HMMcopy Version: 1.51.0 Command: /home/biocbuild/bbs-3.22-bioc/R/bin/R CMD INSTALL HMMcopy StartedAt: 2025-10-13 15:05:02 -0400 (Mon, 13 Oct 2025) EndedAt: 2025-10-13 15:05:06 -0400 (Mon, 13 Oct 2025) EllapsedTime: 4.5 seconds RetCode: 0 Status: OK