Package: HMMcopy Version: 1.49.0 Command: /home/biocbuild/bbs-3.21-bioc/R/bin/R CMD check --install=check:HMMcopy.install-out.txt --library=/home/biocbuild/bbs-3.21-bioc/R/site-library --timings HMMcopy_1.49.0.tar.gz StartedAt: 2025-02-12 23:12:17 -0500 (Wed, 12 Feb 2025) EndedAt: 2025-02-12 23:12:52 -0500 (Wed, 12 Feb 2025) EllapsedTime: 35.0 seconds RetCode: 0 Status: WARNINGS CheckDir: HMMcopy.Rcheck Warnings: 1