Package: HMMcopy Version: 1.49.0 Command: /home/biocbuild/bbs-3.21-bioc/R/bin/R CMD build --keep-empty-dirs --no-resave-data HMMcopy StartedAt: 2025-02-12 17:36:54 -0500 (Wed, 12 Feb 2025) EndedAt: 2025-02-12 17:37:05 -0500 (Wed, 12 Feb 2025) EllapsedTime: 11.0 seconds RetCode: 0 Status: OK PackageFile: HMMcopy_1.49.0.tar.gz PackageFileSize: 2.183 MiB