Package: HMMcopy Version: 1.49.0 Command: /Library/Frameworks/R.framework/Resources/bin/R CMD build --keep-empty-dirs --no-resave-data HMMcopy StartedAt: 2025-02-17 16:37:53 -0500 (Mon, 17 Feb 2025) EndedAt: 2025-02-17 16:38:07 -0500 (Mon, 17 Feb 2025) EllapsedTime: 13.1 seconds RetCode: 0 Status: OK PackageFile: HMMcopy_1.49.0.tar.gz PackageFileSize: 1.786 MiB