Package: HIREewas Version: 1.27.0 Command: /home/biocbuild/R/R/bin/R CMD build --keep-empty-dirs --no-resave-data HIREewas StartedAt: 2025-10-14 00:59:55 -0000 (Tue, 14 Oct 2025) EndedAt: 2025-10-14 01:01:09 -0000 (Tue, 14 Oct 2025) EllapsedTime: 74.0 seconds RetCode: 0 Status: OK PackageFile: HIREewas_1.27.0.tar.gz PackageFileSize: 257.7 KiB