Package: HIREewas Version: 1.27.0 Command: /Library/Frameworks/R.framework/Resources/bin/R CMD build --keep-empty-dirs --no-resave-data HIREewas StartedAt: 2025-10-02 16:42:16 -0400 (Thu, 02 Oct 2025) EndedAt: 2025-10-02 16:42:35 -0400 (Thu, 02 Oct 2025) EllapsedTime: 19.2 seconds RetCode: 0 Status: OK PackageFile: HIREewas_1.27.0.tar.gz PackageFileSize: 265.5 KiB