Package: HIREewas Version: 1.27.0 Command: rm -rf HIREewas.buildbin-libdir && mkdir HIREewas.buildbin-libdir && /Users/biocbuild/BBS/utils/build-universal.sh HIREewas_1.27.0.tar.gz /Library/Frameworks/R.framework/Resources/bin/R HIREewas.buildbin-libdir StartedAt: 2025-10-22 23:03:50 -0400 (Wed, 22 Oct 2025) EndedAt: 2025-10-22 23:03:52 -0400 (Wed, 22 Oct 2025) EllapsedTime: 2.0 seconds RetCode: 0 Status: OK PackageFile: HIREewas_1.27.0.tgz PackageFileSize: 280.5 KiB