Package: HIPPO Version: 1.19.0 Command: chmod a+r HIPPO -R && E:\biocbuild\bbs-3.21-bioc\R\bin\R.exe CMD build --keep-empty-dirs --no-resave-data HIPPO StartedAt: 2025-02-03 19:27:13 -0500 (Mon, 03 Feb 2025) EndedAt: 2025-02-03 19:28:02 -0500 (Mon, 03 Feb 2025) EllapsedTime: 49.3 seconds RetCode: 0 Status: OK PackageFile: HIPPO_1.19.0.tar.gz PackageFileSize: 508.1 KiB