Package: HIPPO Version: 1.21.0 Command: /home/biocbuild/bbs-3.22-bioc/R/bin/R CMD INSTALL HIPPO StartedAt: 2025-10-10 15:31:52 -0400 (Fri, 10 Oct 2025) EndedAt: 2025-10-10 15:32:17 -0400 (Fri, 10 Oct 2025) EllapsedTime: 25.3 seconds RetCode: 0 Status: OK