Package: HIPPO Version: 1.21.0 Command: /home/biocbuild/bbs-3.22-bioc/R/bin/R CMD build --keep-empty-dirs --no-resave-data --md5 HIPPO StartedAt: 2025-10-10 18:18:21 -0400 (Fri, 10 Oct 2025) EndedAt: 2025-10-10 18:19:04 -0400 (Fri, 10 Oct 2025) EllapsedTime: 42.0 seconds RetCode: 0 Status: OK PackageFile: HIPPO_1.21.0.tar.gz PackageFileSize: 627.5 KiB