Package: HIPPO Version: 1.19.0 Command: /home/biocbuild/R/R/bin/R CMD build --keep-empty-dirs --no-resave-data HIPPO StartedAt: 2025-01-28 23:37:56 -0000 (Tue, 28 Jan 2025) EndedAt: 2025-01-28 23:38:52 -0000 (Tue, 28 Jan 2025) EllapsedTime: 56.0 seconds RetCode: 0 Status: OK PackageFile: HIPPO_1.19.0.tar.gz PackageFileSize: 537.2 KiB