Package: HIPPO Version: 1.19.0 Command: /Library/Frameworks/R.framework/Resources/bin/R CMD INSTALL HIPPO StartedAt: 2025-02-03 15:41:38 -0500 (Mon, 03 Feb 2025) EndedAt: 2025-02-03 15:41:48 -0500 (Mon, 03 Feb 2025) EllapsedTime: 10.3 seconds RetCode: 0 Status: OK