Package: HIPPO Version: 1.19.0 Command: /Library/Frameworks/R.framework/Resources/bin/R CMD check --install=check:HIPPO.install-out.txt --library=/Library/Frameworks/R.framework/Resources/library --no-vignettes --timings HIPPO_1.19.0.tar.gz StartedAt: 2025-02-03 20:15:39 -0500 (Mon, 03 Feb 2025) EndedAt: 2025-02-03 20:16:50 -0500 (Mon, 03 Feb 2025) EllapsedTime: 70.8 seconds RetCode: 0 Status: OK CheckDir: HIPPO.Rcheck Warnings: 0