Package: HIBAG Version: 1.45.0 Command: /home/biocbuild/R/R/bin/R CMD build --keep-empty-dirs --no-resave-data HIBAG StartedAt: 2025-10-07 00:18:15 -0000 (Tue, 07 Oct 2025) EndedAt: 2025-10-07 00:18:48 -0000 (Tue, 07 Oct 2025) EllapsedTime: 33.0 seconds RetCode: 1 Status: ERROR PackageFile: None PackageFileSize: NA