Package: HGC Version: 1.17.0 Command: rm -rf HGC.buildbin-libdir && mkdir HGC.buildbin-libdir && F:\biocbuild\bbs-3.22-bioc\R\bin\R.exe CMD INSTALL --build --library=HGC.buildbin-libdir HGC_1.17.0.tar.gz StartedAt: 2025-08-15 10:27:46 -0400 (Fri, 15 Aug 2025) EndedAt: 2025-08-15 10:29:09 -0400 (Fri, 15 Aug 2025) EllapsedTime: 83.1 seconds RetCode: 0 Status: OK PackageFile: HGC_1.17.0.zip PackageFileSize: 808.4 KiB