Package: HGC Version: 1.15.0 Command: /home/biocbuild/bbs-3.21-bioc/R/bin/R CMD build --keep-empty-dirs --no-resave-data HGC StartedAt: 2025-02-21 18:06:43 -0500 (Fri, 21 Feb 2025) EndedAt: 2025-02-21 18:07:24 -0500 (Fri, 21 Feb 2025) EllapsedTime: 41.0 seconds RetCode: 0 Status: OK PackageFile: HGC_1.15.0.tar.gz PackageFileSize: 528.6 KiB