Package: HGC Version: 1.15.0 Command: /Library/Frameworks/R.framework/Resources/bin/R CMD build --keep-empty-dirs --no-resave-data HGC StartedAt: 2025-02-20 16:58:14 -0500 (Thu, 20 Feb 2025) EndedAt: 2025-02-20 16:58:58 -0500 (Thu, 20 Feb 2025) EllapsedTime: 43.5 seconds RetCode: 0 Status: OK PackageFile: HGC_1.15.0.tar.gz PackageFileSize: 540.2 KiB