Package: HEM Version: 1.81.0 Command: chmod a+r HEM -R && F:\biocbuild\bbs-3.22-bioc\R\bin\R.exe CMD build --keep-empty-dirs --no-resave-data HEM StartedAt: 2025-08-14 20:45:34 -0400 (Thu, 14 Aug 2025) EndedAt: 2025-08-14 20:45:58 -0400 (Thu, 14 Aug 2025) EllapsedTime: 24.5 seconds RetCode: 0 Status: OK PackageFile: HEM_1.81.0.tar.gz PackageFileSize: 530 KiB