Package: HEM Version: 1.79.0 Command: /Library/Frameworks/R.framework/Resources/bin/R CMD INSTALL HEM StartedAt: 2025-02-03 15:36:28 -0500 (Mon, 03 Feb 2025) EndedAt: 2025-02-03 15:36:30 -0500 (Mon, 03 Feb 2025) EllapsedTime: 2.0 seconds RetCode: 0 Status: OK