Package: HEM Version: 1.79.0 Command: /Library/Frameworks/R.framework/Resources/bin/R CMD check --install=check:HEM.install-out.txt --library=/Library/Frameworks/R.framework/Resources/library --no-vignettes --timings HEM_1.79.0.tar.gz StartedAt: 2025-02-03 20:13:27 -0500 (Mon, 03 Feb 2025) EndedAt: 2025-02-03 20:13:41 -0500 (Mon, 03 Feb 2025) EllapsedTime: 14.2 seconds RetCode: 0 Status: WARNINGS CheckDir: HEM.Rcheck Warnings: 1