Package: HEM Version: 1.79.0 Command: /Library/Frameworks/R.framework/Resources/bin/R CMD build --keep-empty-dirs --no-resave-data HEM StartedAt: 2025-02-03 17:12:14 -0500 (Mon, 03 Feb 2025) EndedAt: 2025-02-03 17:12:19 -0500 (Mon, 03 Feb 2025) EllapsedTime: 5.1 seconds RetCode: 0 Status: OK PackageFile: HEM_1.79.0.tar.gz PackageFileSize: 611.6 KiB