Package: HEM Version: 1.79.0 Command: rm -rf HEM.buildbin-libdir && mkdir HEM.buildbin-libdir && /Users/biocbuild/BBS/utils/build-universal.sh HEM_1.79.0.tar.gz /Library/Frameworks/R.framework/Resources/bin/R HEM.buildbin-libdir StartedAt: 2025-02-03 22:53:02 -0500 (Mon, 03 Feb 2025) EndedAt: 2025-02-03 22:53:05 -0500 (Mon, 03 Feb 2025) EllapsedTime: 3.1 seconds RetCode: 0 Status: OK PackageFile: HEM_1.79.0.tgz PackageFileSize: 717.9 KiB