Package: HELP Version: 1.65.0 Command: /home/biocbuild/bbs-3.21-bioc/R/bin/R CMD build --keep-empty-dirs --no-resave-data HELP StartedAt: 2025-02-16 17:34:19 -0500 (Sun, 16 Feb 2025) EndedAt: 2025-02-16 17:34:34 -0500 (Sun, 16 Feb 2025) EllapsedTime: 15.0 seconds RetCode: 0 Status: OK PackageFile: HELP_1.65.0.tar.gz PackageFileSize: 999.5 KiB