Package: HELP Version: 1.65.0 Command: /Library/Frameworks/R.framework/Resources/bin/R CMD INSTALL HELP StartedAt: 2025-02-16 15:05:09 -0500 (Sun, 16 Feb 2025) EndedAt: 2025-02-16 15:05:22 -0500 (Sun, 16 Feb 2025) EllapsedTime: 12.8 seconds RetCode: 0 Status: OK