Package: HELP Version: 1.65.0 Command: /Library/Frameworks/R.framework/Resources/bin/R CMD check --install=check:HELP.install-out.txt --library=/Library/Frameworks/R.framework/Resources/library --no-vignettes --timings HELP_1.65.0.tar.gz StartedAt: 2025-02-16 20:50:30 -0500 (Sun, 16 Feb 2025) EndedAt: 2025-02-16 20:51:13 -0500 (Sun, 16 Feb 2025) EllapsedTime: 42.6 seconds RetCode: 0 Status: OK CheckDir: HELP.Rcheck Warnings: 0