Package: HDTD Version: 1.43.0 Command: /home/biocbuild/bbs-3.22-bioc/R/bin/R CMD INSTALL HDTD StartedAt: 2025-10-14 15:06:33 -0400 (Tue, 14 Oct 2025) EndedAt: 2025-10-14 15:07:14 -0400 (Tue, 14 Oct 2025) EllapsedTime: 40.7 seconds RetCode: 0 Status: OK